{"text_format":"1","workbook":"xlsx","n_sheets":2,"sheets":["アンケート回答用紙 (1)","(1)"],"not_rendered":{"charts":0,"images":0,"macros":0,"external_links":0,"defined_names":0,"comments":0,"pivot_tables":0},"unopened":[],"bounds":{"document_bytes":16777216,"sheet_cells":100000,"rows_first":2000,"rows_last":500,"rows_between":2000,"halvings":0,"cell_chars":16384,"cell_head_chars":4096},"cells_cut":0,"cells_raw":0,"read":"whole","date_system":"1900"}

{"sheet":"アンケート回答用紙 (1)","index":0,"n_rows":83,"n_cols":31,"rows_kept":83,"cut":false,"hidden":false,"merged":[[9,1,9,8],[3,1,3,8],[5,2,5,3],[6,2,6,3],[7,2,7,3],[8,1,8,8]]}
[null,"アレルギー物質を含む食品成分を原材料として使用する医薬品添加物に関する実態調査"]
[null,"《デンプン類の添加剤》"]
[null,"※実態調査にご回答いただく際の注意事項等"]
[null,"1.　ご回答いただいた内容は、本AMED研究以外の用途には使用いたしません。\n2. 　シートはスクロールダウンして、黄色いセルの全てにお答えください。\n3.　2019年10月31日(木)までに、メール（drug-2@nihs.go.jp）でお送りください。\n4.　添加剤を選択した際、最初にマクロに関する警告ウィンドウが立ち上がりますが、「OK」を押して続行してください。"]
[]
[null,"会社名"]
[null,"担当者名"]
[null,"電話番号"]
[null,"※ お取扱いされている添加物の基原が不明な場合、1つの添加物を複数の基原から製造されている場合、ファイルがうまく動作しない場合など、ご回答が難しい場合は、下記の空欄にコメントをご記入ください。"]
[]
[]
[null,"【1】お取扱いされている添加剤を選択してください。（複数回答可）"]
[null,null,null,null,false,"アメ粉",1,null,null,null,null,null,null,null,null,null,null,null,null,null,null,null,null,null,null,null,null,"選択してください",1,{"$f":"IF(NOT(E$14),IF(NOT(E$15),IF(NOT(E$16),IF(NOT(E$17),IF(NOT(E$18),IF(NOT(E$19),IF(NOT(E$20),0,F$20),F$19),F$18),F$17),F$16),F$15),F$14)","v":0},{"$f":"COUNTIF(E13:E20,\"TRUE\")","v":0}]
[null,null,null,null,false,"還元麦芽糖水アメ",2,null,null,null,null,null,null,null,null,null,null,null,null,null,null,null,null,null,null,null,null,"コムギ",2,{"$f":"IF(NOT(E$15),IF(NOT(E$16),IF(NOT(E$17),IF(NOT(E$18),IF(NOT(E$19),IF(NOT(E$20),0,F$20),F$19),F$18),F$17),F$16),F$15)","v":0}]
[null,null,null,null,false,"粉末還元麦芽糖水アメ",3,null,null,null,null,null,null,null,null,null,null,null,null,null,null,null,null,null,null,null,null,"コメ",3,{"$f":"IF(NOT(E$16),IF(NOT(E$17),IF(NOT(E$18),IF(NOT(E$19),IF(NOT(E$20),0,F$20),F$19),F$18),F$17),F$16)","v":0}]
[null,null,null,null,false,"α-シクロデキストリン",4,null,null,null,null,null,null,null,null,null,null,null,null,null,null,null,null,null,null,null,null,"トウモロコシ",4,{"$f":"IF(NOT(E$17),IF(NOT(E$18),IF(NOT(E$19),IF(NOT(E$20),0,F$20),F$19),F$18),F$17)","v":0}]
[null,null,null,null,false,"β-シクロデキストリン",5,null,null,null,null,null,null,null,null,null,null,null,null,null,null,null,null,null,null,null,null,"ジャガイモ",5,{"$f":"IF(NOT(E$18),IF(NOT(E$19),IF(NOT(E$20),0,F$20),F$19),F$18)","v":0}]
[null,null,null,null,false,"ブドウ糖果糖液糖",6,null,null,null,null,null,null,null,null,null,null,null,null,null,null,null,null,null,null,null,null,"その他",6,{"$f":"IF(NOT(E$19),IF(NOT(E$20),0,F$20),F$19)","v":0}]
[null,null,null,null,false,"水アメ",7,null,null,null,null,null,null,null,null,null,null,null,null,null,null,null,null,null,null,null,null,null,7,{"$f":"IF(NOT(E$20),0,F$20)","v":0}]
[null,null,null,null,false,"還元水アメ",8]
[null,null,null,null,null,0,0]
[null,"【2】下記のそれぞれの項目にお答えください。"]
[null,"〔1〕",{"$f":"IF(NOT(E$13),IF(NOT(E$14),IF(NOT(E$15),IF(NOT(E$16),IF(NOT(E$17),IF(NOT(E$18),IF(NOT(E$19),IF(NOT(E$20),IF(NOT(E$21),IF(NOT(E$22),IF(NOT(E$23),0,F$23),F$22),F$21),F$20),F$19),F$18),F$17),F$16),F$15),F$14),F$13)","v":0}]
[null,null,"Ｑ. 原材料とするデンプンの基原植物をお答えください。"]
[null,null,null,"選択してください"]
[null,null,null,{"$f":"IF(OR(C23=0, NOT(D25=\"その他\")),\"　\",\"↓\")","v":"　"}]
[null,null,{"$f":"IF(C23=0,\" \",IF(D25=\"植物\",\"（2）原材料となる脂肪または脂肪油の由来植物をお答えください。\",(IF(D25=\"動物\",\"（2）原材料となる脂肪または脂肪油の由来動物をお答えください。\",\" \"))))","v":" "},{"$f":"IF(AND(NOT(C23=0),D25=\"その他\"),\"基原植物名を記入してください\",\"　\")","v":"　"}]
[]
[]
[]
[null,"〔2〕",{"$f":"IF(B32=1,AD$13,IF(B32=2,AD$14,IF(B32=3,AD$15,IF(B32=4,AD$16,IF(B32=5,AD$17,IF(B32=6,AD$18,IF(B32=7,AD$19,IF(B32=8,AD$20,IF(B32=9,AD$21,IF(B32=10,AD$22,0))))))))))","v":0}]
[null,{"$f":"VLOOKUP(C23,F$13:G$24,2,FALSE)","v":0},"Ｑ. 原材料とするデンプンの基原植物をお答えください。"]
[null,null,null,"選択してください"]
[null,null,null,{"$f":"IF(OR(C31=0, NOT(D33=\"その他\")),\"　\",\"↓\")","v":"　"}]
[null,null,{"$f":"IF(C31=0,\" \",IF(D33=\"植物\",\"（2）原材料となる脂肪または脂肪油の由来植物をお答えください。\",(IF(D33=\"動物\",\"（2）原材料となる脂肪または脂肪油の由来動物をお答えください。\",\" \"))))","v":" "},{"$f":"IF(AND(NOT(C31=0),D33=\"その他\"),\"基原植物名を記入してください\",\"　\")","v":"　"}]
[]
[]
[]
[null,"〔3〕",{"$f":"IF(B40=1,AD$13,IF(B40=2,AD$14,IF(B40=3,AD$15,IF(B40=4,AD$16,IF(B40=5,AD$17,IF(B40=6,AD$18,IF(B40=7,AD$19,IF(B40=8,AD$20,IF(B40=9,AD$21,IF(B40=10,AD$22,0))))))))))","v":0}]
[null,{"$f":"VLOOKUP(C31,F$13:G$24,2,FALSE)","v":0},"Ｑ. 原材料とするデンプンの基原植物をお答えください。"]
[null,null,null,"選択してください"]
[null,null,null,{"$f":"IF(OR(C39=0, NOT(D41=\"その他\")),\"　\",\"↓\")","v":"　"}]
[null,null,{"$f":"IF(C39=0,\" \",IF(D41=\"植物\",\"（2）原材料となる脂肪または脂肪油の由来植物をお答えください。\",(IF(D41=\"動物\",\"（2）原材料となる脂肪または脂肪油の由来動物をお答えください。\",\" \"))))","v":" "},{"$f":"IF(AND(NOT(C39=0),D41=\"その他\"),\"基原植物名を記入してください\",\"　\")","v":"　"}]
[]
[]
[]
[null,"〔4〕",{"$f":"IF(B48=1,AD$13,IF(B48=2,AD$14,IF(B48=3,AD$15,IF(B48=4,AD$16,IF(B48=5,AD$17,IF(B48=6,AD$18,IF(B48=7,AD$19,IF(B48=8,AD$20,IF(B48=9,AD$21,IF(B48=10,AD$22,0))))))))))","v":0}]
[null,{"$f":"VLOOKUP(C39,F$13:G$24,2,FALSE)","v":0},"Ｑ. 原材料とするデンプンの基原植物をお答えください。"]
[null,null,null,"選択してください"]
[null,null,null,{"$f":"IF(OR(C47=0, NOT(D49=\"その他\")),\"　\",\"↓\")","v":"　"}]
[null,null,{"$f":"IF(C47=0,\" \",IF(D49=\"植物\",\"（2）原材料となる脂肪または脂肪油の由来植物をお答えください。\",(IF(D49=\"動物\",\"（2）原材料となる脂肪または脂肪油の由来動物をお答えください。\",\" \"))))","v":" "},{"$f":"IF(AND(NOT(C47=0),D49=\"その他\"),\"基原植物名を記入してください\",\"　\")","v":"　"}]
[]
[]
[]
[null,"〔5〕",{"$f":"IF(B56=1,AD$13,IF(B56=2,AD$14,IF(B56=3,AD$15,IF(B56=4,AD$16,IF(B56=5,AD$17,IF(B56=6,AD$18,IF(B56=7,AD$19,IF(B56=8,AD$20,IF(B56=9,AD$21,IF(B56=10,AD$22,0))))))))))","v":0}]
[null,{"$f":"VLOOKUP(C47,F$13:G$24,2,FALSE)","v":0},"Ｑ. 原材料とするデンプンの基原植物をお答えください。"]
[null,null,null,"選択してください"]
[null,null,null,{"$f":"IF(OR(C55=0, NOT(D57=\"その他\")),\"　\",\"↓\")","v":"　"}]
[null,null,{"$f":"IF(C55=0,\" \",IF(D57=\"植物\",\"（2）原材料となる脂肪または脂肪油の由来植物をお答えください。\",(IF(D57=\"動物\",\"（2）原材料となる脂肪または脂肪油の由来動物をお答えください。\",\" \"))))","v":" "},{"$f":"IF(AND(NOT(C55=0),D57=\"その他\"),\"基原植物名を記入してください\",\"　\")","v":"　"}]
[]
[]
[]
[null,"〔6〕",{"$f":"IF(B64=1,AD$13,IF(B64=2,AD$14,IF(B64=3,AD$15,IF(B64=4,AD$16,IF(B64=5,AD$17,IF(B64=6,AD$18,IF(B64=7,AD$19,IF(B64=8,AD$20,IF(B64=9,AD$21,IF(B64=10,AD$22,0))))))))))","v":0}]
[null,{"$f":"VLOOKUP(C55,F$13:G$24,2,FALSE)","v":0},"Ｑ. 原材料とするデンプンの基原植物をお答えください。"]
[null,null,null,"選択してください"]
[null,null,null,{"$f":"IF(OR(C63=0, NOT(D65=\"その他\")),\"　\",\"↓\")","v":"　"}]
[null,null,{"$f":"IF(C63=0,\" \",IF(D65=\"植物\",\"（2）原材料となる脂肪または脂肪油の由来植物をお答えください。\",(IF(D65=\"動物\",\"（2）原材料となる脂肪または脂肪油の由来動物をお答えください。\",\" \"))))","v":" "},{"$f":"IF(AND(NOT(C63=0),D65=\"その他\"),\"基原植物名を記入してください\",\"　\")","v":"　"}]
[]
[]
[]
[null,"〔7〕",{"$f":"IF(B72=1,AD$13,IF(B72=2,AD$14,IF(B72=3,AD$15,IF(B72=4,AD$16,IF(B72=5,AD$17,IF(B72=6,AD$18,IF(B72=7,AD$19,IF(B72=8,AD$20,IF(B72=9,AD$21,IF(B72=10,AD$22,0))))))))))","v":0}]
[null,{"$f":"VLOOKUP(C63,F$13:G$24,2,FALSE)","v":0},"Ｑ. 原材料とするデンプンの基原植物をお答えください。"]
[null,null,null,"選択してください"]
[null,null,null,{"$f":"IF(OR(C71=0, NOT(D73=\"その他\")),\"　\",\"↓\")","v":"　"}]
[null,null,{"$f":"IF(C71=0,\" \",IF(D73=\"植物\",\"（2）原材料となる脂肪または脂肪油の由来植物をお答えください。\",(IF(D73=\"動物\",\"（2）原材料となる脂肪または脂肪油の由来動物をお答えください。\",\" \"))))","v":" "},{"$f":"IF(AND(NOT(C71=0),D73=\"その他\"),\"基原植物名を記入してください\",\"　\")","v":"　"}]
[]
[]
[]
[null,"〔8〕",{"$f":"IF(B80=1,AD$13,IF(B80=2,AD$14,IF(B80=3,AD$15,IF(B80=4,AD$16,IF(B80=5,AD$17,IF(B80=6,AD$18,IF(B80=7,AD$19,IF(B80=8,AD$20,IF(B80=9,AD$21,IF(B80=10,AD$22,0))))))))))","v":0}]
[null,{"$f":"VLOOKUP(C71,F$13:G$24,2,FALSE)","v":0},"Ｑ. 原材料とするデンプンの基原植物をお答えください。"]
[null,null,null,"選択してください"]
[null,null,null,{"$f":"IF(OR(C79=0, NOT(D81=\"その他\")),\"　\",\"↓\")","v":"　"}]
[null,null,{"$f":"IF(C79=0,\" \",IF(D81=\"植物\",\"（2）原材料となる脂肪または脂肪油の由来植物をお答えください。\",(IF(D81=\"動物\",\"（2）原材料となる脂肪または脂肪油の由来動物をお答えください。\",\" \"))))","v":" "},{"$f":"IF(AND(NOT(C79=0),D81=\"その他\"),\"基原植物名を記入してください\",\"　\")","v":"　"}]

{"sheet":"(1)","index":1,"n_rows":13,"n_cols":8,"rows_kept":13,"cut":false,"hidden":false,"merged":[]}
[null,"《デンプン類の添加剤》"]
[null,"会社名","担当者名","電話番号",null,null,null,"コメント"]
[null,{"$f":"'アンケート回答用紙 (1)'!$C$6","v":0},{"$f":"'アンケート回答用紙 (1)'!$C$7","v":0},{"$f":"'アンケート回答用紙 (1)'!$C$8","v":0},null,null,null,{"$f":"'アンケート回答用紙 (1)'!$B$10","v":0}]
[]
[]
[null,{"$f":"IF(C6=0,0,\"①\")","v":0},{"$f":"'アンケート回答用紙 (1)'!$C$23","v":0},{"$f":"IF(C6=0,0,'アンケート回答用紙 (1)'!$D$25)","v":0},{"$f":"IF(C6=0,0,IF(D6=\"その他\", 'アンケート回答用紙 (1)'!$D$28,0))","v":0}]
[null,{"$f":"IF(C7=0,0,\"②\")","v":0},{"$f":"'アンケート回答用紙 (1)'!$C$31","v":0},{"$f":"IF(C7=0,0,'アンケート回答用紙 (1)'!$D$33)","v":0},{"$f":"IF(C7=0,0,IF(D7=\"その他\", 'アンケート回答用紙 (1)'!$D$36,0))","v":0}]
[null,{"$f":"IF(C8=0,0,\"③\")","v":0},{"$f":"'アンケート回答用紙 (1)'!$C$39","v":0},{"$f":"IF(C8=0,0,'アンケート回答用紙 (1)'!$D$41)","v":0},{"$f":"IF(C8=0,0,IF(D8=\"その他\", 'アンケート回答用紙 (1)'!$D$44,0))","v":0}]
[null,{"$f":"IF(C9=0,0,\"④\")","v":0},{"$f":"'アンケート回答用紙 (1)'!$C$47","v":0},{"$f":"IF(C9=0,0,'アンケート回答用紙 (1)'!$D$49)","v":0},{"$f":"IF(C9=0,0,IF(D9=\"その他\", 'アンケート回答用紙 (1)'!$D$52,0))","v":0}]
[null,{"$f":"IF(C10=0,0,\"⑤\")","v":0},{"$f":"'アンケート回答用紙 (1)'!$C$55","v":0},{"$f":"IF(C10=0,0,'アンケート回答用紙 (1)'!$D$57)","v":0},{"$f":"IF(C10=0,0,IF(D10=\"その他\", 'アンケート回答用紙 (1)'!$D$60,0))","v":0}]
[null,{"$f":"IF(C11=0,0,\"⑥\")","v":0},{"$f":"'アンケート回答用紙 (1)'!$C$63","v":0},{"$f":"IF(C11=0,0,'アンケート回答用紙 (1)'!$D$65)","v":0},{"$f":"IF(C11=0,0,IF(D11=\"その他\", 'アンケート回答用紙 (1)'!$D$68,0))","v":0}]
[null,{"$f":"IF(C12=0,0,\"⑦\")","v":0},{"$f":"'アンケート回答用紙 (1)'!$C$71","v":0},{"$f":"IF(C12=0,0,'アンケート回答用紙 (1)'!$D$73)","v":0},{"$f":"IF(C12=0,0,IF(D12=\"その他\", 'アンケート回答用紙 (1)'!$D$76,0))","v":0}]
[null,{"$f":"IF(C13=0,0,\"⑧\")","v":0},{"$f":"'アンケート回答用紙 (1)'!$C$79","v":0},{"$f":"IF(C13=0,0,'アンケート回答用紙 (1)'!$D$81)","v":0},{"$f":"IF(C13=0,0,IF(D13=\"その他\", 'アンケート回答用紙 (1)'!$D$84,0))","v":0}]